BEGIN:VCALENDAR
VERSION:2.0
PRODID:-//Divadélko U Zvonu - ECPv6.15.20//NONSGML v1.0//EN
CALSCALE:GREGORIAN
METHOD:PUBLISH
X-WR-CALNAME:Divadélko U Zvonu
X-ORIGINAL-URL:https://www.divadelkouzvonu.cz
X-WR-CALDESC:Akce na Divadélko U Zvonu
REFRESH-INTERVAL;VALUE=DURATION:PT1H
X-Robots-Tag:noindex
X-PUBLISHED-TTL:PT1H
BEGIN:VTIMEZONE
TZID:Europe/Prague
BEGIN:DAYLIGHT
TZOFFSETFROM:+0100
TZOFFSETTO:+0200
TZNAME:CEST
DTSTART:20240331T010000
END:DAYLIGHT
BEGIN:STANDARD
TZOFFSETFROM:+0200
TZOFFSETTO:+0100
TZNAME:CET
DTSTART:20241027T010000
END:STANDARD
BEGIN:DAYLIGHT
TZOFFSETFROM:+0100
TZOFFSETTO:+0200
TZNAME:CEST
DTSTART:20250330T010000
END:DAYLIGHT
BEGIN:STANDARD
TZOFFSETFROM:+0200
TZOFFSETTO:+0100
TZNAME:CET
DTSTART:20251026T010000
END:STANDARD
BEGIN:DAYLIGHT
TZOFFSETFROM:+0100
TZOFFSETTO:+0200
TZNAME:CEST
DTSTART:20260329T010000
END:DAYLIGHT
BEGIN:STANDARD
TZOFFSETFROM:+0200
TZOFFSETTO:+0100
TZNAME:CET
DTSTART:20261025T010000
END:STANDARD
END:VTIMEZONE
BEGIN:VEVENT
DTSTART;VALUE=DATE:20251205
DTEND;VALUE=DATE:20251206
DTSTAMP:20260421T044650
CREATED:20251021T063953Z
LAST-MODIFIED:20251201T203246Z
UID:1180-1764892800-1764979199@www.divadelkouzvonu.cz
SUMMARY:Výjezdní Mikuláš domů
DESCRIPTION:Změna programu! Oproti avizovanému titulu Diagnóza: Divadlo uvádíme Divadelní kvíz.  Večer plný zábavy a soutěží. Přijďte tedy zažít neopakovatelný večer\, který se opakovat už nebude.   								\n				\n				\n		\n		\n				\n				\n					Rezervace představení				\n				\n				\n		\n				\n				\n							\n\n  \n\n\n\n Předmět (ponechte políčko tak jak je):\n\n \n Vaše jméno a příjmení:\n \n \n Počet míst - Dospělí\n \n \n Počet míst - Děti\n \n \n Váš e-mail:\n \n \n Telefon\n \n \n Vyberte představení:\n26. 04. 2026 - Popletené koťátko - Obnovená premiéra17. 05. 2026 - O Červené Karkulce - PREMIÉRA31. 05. 2026 - O Ošklivé princezně07. 06. 2026 - O pejskovi a kočičce 219. 06. 2026 - Diagnóza: Divadlo21. 06. 2026 - O Červené Karkulce\n\n \n Poznámka (volitelný)\n \n \nPonechte toto pole prázdné.\n \n\n Δ
URL:https://www.divadelkouzvonu.cz/event/vyjezdni-mikulas-domu/
LOCATION:Středočeský
CATEGORIES:Divadelní představení
ATTACH;FMTTYPE=image/webp:https://www.divadelkouzvonu.cz/wp-content/uploads/2025/09/483753536_1183138913816685_5815680606474968090_n.webp
ORGANIZER;CN="Divad%C3%A9lko U Zvonu":MAILTO:info@divadelkouzvonu.cz
END:VEVENT
BEGIN:VEVENT
DTSTART;TZID=Europe/Prague:20251129T160000
DTEND;TZID=Europe/Prague:20251129T164500
DTSTAMP:20260421T044650
CREATED:20251021T063028Z
LAST-MODIFIED:20251023T191551Z
UID:1175-1764432000-1764434700@www.divadelkouzvonu.cz
SUMMARY:Mikuláš u Pejska a Kočičky
DESCRIPTION:Změna programu! Oproti avizovanému titulu Diagnóza: Divadlo uvádíme Divadelní kvíz.  Večer plný zábavy a soutěží. Přijďte tedy zažít neopakovatelný večer\, který se opakovat už nebude.   								\n				\n				\n		\n		\n				\n				\n					Rezervace představení				\n				\n				\n		\n				\n				\n							\n\n  \n\n\n\n Předmět (ponechte políčko tak jak je):\n\n \n Vaše jméno a příjmení:\n \n \n Počet míst - Dospělí\n \n \n Počet míst - Děti\n \n \n Váš e-mail:\n \n \n Telefon\n \n \n Vyberte představení:\n26. 04. 2026 - Popletené koťátko - Obnovená premiéra17. 05. 2026 - O Červené Karkulce - PREMIÉRA31. 05. 2026 - O Ošklivé princezně07. 06. 2026 - O pejskovi a kočičce 219. 06. 2026 - Diagnóza: Divadlo21. 06. 2026 - O Červené Karkulce\n\n \n Poznámka (volitelný)\n \n \nPonechte toto pole prázdné.\n \n\n Δ
URL:https://www.divadelkouzvonu.cz/event/mikulas-u-pejska-a-kocicky/
LOCATION:Kladenské divadélko\, Josefa Hory 1981\, Kladno\, Středočeský\, 27201\, Česká republika
CATEGORIES:Divadelní představení
ATTACH;FMTTYPE=image/webp:https://www.divadelkouzvonu.cz/wp-content/uploads/2023/08/DSC_2547-scaled.webp
ORGANIZER;CN="Divad%C3%A9lko U Zvonu":MAILTO:info@divadelkouzvonu.cz
END:VEVENT
BEGIN:VEVENT
DTSTART;TZID=Europe/Prague:20251109T160000
DTEND;TZID=Europe/Prague:20251109T164500
DTSTAMP:20260421T044650
CREATED:20251021T060205Z
LAST-MODIFIED:20251023T191502Z
UID:1138-1762704000-1762706700@www.divadelkouzvonu.cz
SUMMARY:Nahatá pohádka aneb klišé zakázáno
DESCRIPTION:Změna programu! Oproti avizovanému titulu Diagnóza: Divadlo uvádíme Divadelní kvíz.  Večer plný zábavy a soutěží. Přijďte tedy zažít neopakovatelný večer\, který se opakovat už nebude.   								\n				\n				\n		\n		\n				\n				\n					Rezervace představení				\n				\n				\n		\n				\n				\n							\n\n  \n\n\n\n Předmět (ponechte políčko tak jak je):\n\n \n Vaše jméno a příjmení:\n \n \n Počet míst - Dospělí\n \n \n Počet míst - Děti\n \n \n Váš e-mail:\n \n \n Telefon\n \n \n Vyberte představení:\n26. 04. 2026 - Popletené koťátko - Obnovená premiéra17. 05. 2026 - O Červené Karkulce - PREMIÉRA31. 05. 2026 - O Ošklivé princezně07. 06. 2026 - O pejskovi a kočičce 219. 06. 2026 - Diagnóza: Divadlo21. 06. 2026 - O Červené Karkulce\n\n \n Poznámka (volitelný)\n \n \nPonechte toto pole prázdné.\n \n\n Δ
URL:https://www.divadelkouzvonu.cz/event/nahata-pohadka-aneb-klise-zakazano/
LOCATION:Kladenské divadélko\, Josefa Hory 1981\, Kladno\, Středočeský\, 27201\, Česká republika
CATEGORIES:Divadelní představení
ATTACH;FMTTYPE=image/webp:https://www.divadelkouzvonu.cz/wp-content/uploads/2025/09/Nahatapohadka.webp
ORGANIZER;CN="Divad%C3%A9lko U Zvonu":MAILTO:info@divadelkouzvonu.cz
END:VEVENT
BEGIN:VEVENT
DTSTART;TZID=Europe/Prague:20251026T160000
DTEND;TZID=Europe/Prague:20251026T164500
DTSTAMP:20260421T044650
CREATED:20251001T142206Z
LAST-MODIFIED:20251023T191422Z
UID:910-1761494400-1761497100@www.divadelkouzvonu.cz
SUMMARY:O pejskovi a kočičce
DESCRIPTION:Změna programu! Oproti avizovanému titulu Diagnóza: Divadlo uvádíme Divadelní kvíz.  Večer plný zábavy a soutěží. Přijďte tedy zažít neopakovatelný večer\, který se opakovat už nebude.   								\n				\n				\n		\n		\n				\n				\n					Rezervace představení				\n				\n				\n		\n				\n				\n							\n\n  \n\n\n\n Předmět (ponechte políčko tak jak je):\n\n \n Vaše jméno a příjmení:\n \n \n Počet míst - Dospělí\n \n \n Počet míst - Děti\n \n \n Váš e-mail:\n \n \n Telefon\n \n \n Vyberte představení:\n26. 04. 2026 - Popletené koťátko - Obnovená premiéra17. 05. 2026 - O Červené Karkulce - PREMIÉRA31. 05. 2026 - O Ošklivé princezně07. 06. 2026 - O pejskovi a kočičce 219. 06. 2026 - Diagnóza: Divadlo21. 06. 2026 - O Červené Karkulce\n\n \n Poznámka (volitelný)\n \n \nPonechte toto pole prázdné.\n \n\n Δ
URL:https://www.divadelkouzvonu.cz/event/o-pejskovi-a-kocicce/
LOCATION:Kladenské divadélko\, Josefa Hory 1981\, Kladno\, Středočeský\, 27201\, Česká republika
CATEGORIES:Divadelní představení
ATTACH;FMTTYPE=image/webp:https://www.divadelkouzvonu.cz/wp-content/uploads/2023/08/opak.webp
ORGANIZER;CN="Divad%C3%A9lko U Zvonu":MAILTO:info@divadelkouzvonu.cz
END:VEVENT
BEGIN:VEVENT
DTSTART;TZID=Europe/Prague:20251019T160000
DTEND;TZID=Europe/Prague:20251019T170000
DTSTAMP:20260421T044650
CREATED:20250925T110728Z
LAST-MODIFIED:20251013T182815Z
UID:796-1760889600-1760893200@www.divadelkouzvonu.cz
SUMMARY:O ošklivé princezně
DESCRIPTION:Změna programu! Oproti avizovanému titulu Diagnóza: Divadlo uvádíme Divadelní kvíz.  Večer plný zábavy a soutěží. Přijďte tedy zažít neopakovatelný večer\, který se opakovat už nebude.   								\n				\n				\n		\n		\n				\n				\n					Rezervace představení				\n				\n				\n		\n				\n				\n							\n\n  \n\n\n\n Předmět (ponechte políčko tak jak je):\n\n \n Vaše jméno a příjmení:\n \n \n Počet míst - Dospělí\n \n \n Počet míst - Děti\n \n \n Váš e-mail:\n \n \n Telefon\n \n \n Vyberte představení:\n26. 04. 2026 - Popletené koťátko - Obnovená premiéra17. 05. 2026 - O Červené Karkulce - PREMIÉRA31. 05. 2026 - O Ošklivé princezně07. 06. 2026 - O pejskovi a kočičce 219. 06. 2026 - Diagnóza: Divadlo21. 06. 2026 - O Červené Karkulce\n\n \n Poznámka (volitelný)\n \n \nPonechte toto pole prázdné.\n \n\n Δ
URL:https://www.divadelkouzvonu.cz/event/o-osklive-princezne-3/
LOCATION:Kladenské divadélko\, Josefa Hory 1981\, Kladno\, Středočeský\, 27201\, Česká republika
CATEGORIES:Divadelní představení
ATTACH;FMTTYPE=image/webp:https://www.divadelkouzvonu.cz/wp-content/uploads/2023/08/oop.webp
ORGANIZER;CN="Divad%C3%A9lko U Zvonu":MAILTO:info@divadelkouzvonu.cz
END:VEVENT
BEGIN:VEVENT
DTSTART;TZID=Europe/Prague:20251012T160000
DTEND;TZID=Europe/Prague:20251012T170000
DTSTAMP:20260421T044650
CREATED:20250925T110453Z
LAST-MODIFIED:20251009T184750Z
UID:794-1760284800-1760288400@www.divadelkouzvonu.cz
SUMMARY:Farma zvířátek
DESCRIPTION:Změna programu! Oproti avizovanému titulu Diagnóza: Divadlo uvádíme Divadelní kvíz.  Večer plný zábavy a soutěží. Přijďte tedy zažít neopakovatelný večer\, který se opakovat už nebude.   								\n				\n				\n		\n		\n				\n				\n					Rezervace představení				\n				\n				\n		\n				\n				\n							\n\n  \n\n\n\n Předmět (ponechte políčko tak jak je):\n\n \n Vaše jméno a příjmení:\n \n \n Počet míst - Dospělí\n \n \n Počet míst - Děti\n \n \n Váš e-mail:\n \n \n Telefon\n \n \n Vyberte představení:\n26. 04. 2026 - Popletené koťátko - Obnovená premiéra17. 05. 2026 - O Červené Karkulce - PREMIÉRA31. 05. 2026 - O Ošklivé princezně07. 06. 2026 - O pejskovi a kočičce 219. 06. 2026 - Diagnóza: Divadlo21. 06. 2026 - O Červené Karkulce\n\n \n Poznámka (volitelný)\n \n \nPonechte toto pole prázdné.\n \n\n Δ
URL:https://www.divadelkouzvonu.cz/event/farma-zviratek-2/
LOCATION:Kladenské divadélko\, Josefa Hory 1981\, Kladno\, Středočeský\, 27201\, Česká republika
CATEGORIES:Divadelní představení
ATTACH;FMTTYPE=image/webp:https://www.divadelkouzvonu.cz/wp-content/uploads/2025/08/1a3d163d-8230-498a-bb30-5e573bed8f44.webp
ORGANIZER;CN="Divad%C3%A9lko U Zvonu":MAILTO:info@divadelkouzvonu.cz
END:VEVENT
BEGIN:VEVENT
DTSTART;TZID=Europe/Prague:20250921T160000
DTEND;TZID=Europe/Prague:20250921T170000
DTSTAMP:20260421T044650
CREATED:20250917T094445Z
LAST-MODIFIED:20250917T113605Z
UID:724-1758470400-1758474000@www.divadelkouzvonu.cz
SUMMARY:Nahatá pohádka aneb žádné klišé
DESCRIPTION:Změna programu! Oproti avizovanému titulu Diagnóza: Divadlo uvádíme Divadelní kvíz.  Večer plný zábavy a soutěží. Přijďte tedy zažít neopakovatelný večer\, který se opakovat už nebude.   								\n				\n				\n		\n		\n				\n				\n					Rezervace představení				\n				\n				\n		\n				\n				\n							\n\n  \n\n\n\n Předmět (ponechte políčko tak jak je):\n\n \n Vaše jméno a příjmení:\n \n \n Počet míst - Dospělí\n \n \n Počet míst - Děti\n \n \n Váš e-mail:\n \n \n Telefon\n \n \n Vyberte představení:\n26. 04. 2026 - Popletené koťátko - Obnovená premiéra17. 05. 2026 - O Červené Karkulce - PREMIÉRA31. 05. 2026 - O Ošklivé princezně07. 06. 2026 - O pejskovi a kočičce 219. 06. 2026 - Diagnóza: Divadlo21. 06. 2026 - O Červené Karkulce\n\n \n Poznámka (volitelný)\n \n \nPonechte toto pole prázdné.\n \n\n Δ
URL:https://www.divadelkouzvonu.cz/event/nahata-pohadka-aneb-zadne-klise/
LOCATION:Kladenské divadélko\, Josefa Hory 1981\, Kladno\, Středočeský\, 27201\, Česká republika
CATEGORIES:Divadelní představení
ATTACH;FMTTYPE=image/webp:https://www.divadelkouzvonu.cz/wp-content/uploads/2025/08/IMG_6529.webp
ORGANIZER;CN="Divad%C3%A9lko U Zvonu":MAILTO:info@divadelkouzvonu.cz
END:VEVENT
BEGIN:VEVENT
DTSTART;TZID=Europe/Prague:20250914T160000
DTEND;TZID=Europe/Prague:20250914T170000
DTSTAMP:20260421T044650
CREATED:20250829T130549Z
LAST-MODIFIED:20250829T130549Z
UID:662-1757865600-1757869200@www.divadelkouzvonu.cz
SUMMARY:O pejskovi a kočičce
DESCRIPTION:Změna programu! Oproti avizovanému titulu Diagnóza: Divadlo uvádíme Divadelní kvíz.  Večer plný zábavy a soutěží. Přijďte tedy zažít neopakovatelný večer\, který se opakovat už nebude.   								\n				\n				\n		\n		\n				\n				\n					Rezervace představení				\n				\n				\n		\n				\n				\n							\n\n  \n\n\n\n Předmět (ponechte políčko tak jak je):\n\n \n Vaše jméno a příjmení:\n \n \n Počet míst - Dospělí\n \n \n Počet míst - Děti\n \n \n Váš e-mail:\n \n \n Telefon\n \n \n Vyberte představení:\n26. 04. 2026 - Popletené koťátko - Obnovená premiéra17. 05. 2026 - O Červené Karkulce - PREMIÉRA31. 05. 2026 - O Ošklivé princezně07. 06. 2026 - O pejskovi a kočičce 219. 06. 2026 - Diagnóza: Divadlo21. 06. 2026 - O Červené Karkulce\n\n \n Poznámka (volitelný)\n \n \nPonechte toto pole prázdné.\n \n\n Δ
URL:https://www.divadelkouzvonu.cz/event/o-pejskovi-a-kocicce-3/
LOCATION:Kladenské divadélko\, Josefa Hory 1981\, Kladno\, Středočeský\, 27201\, Česká republika
CATEGORIES:Divadelní představení
ATTACH;FMTTYPE=image/webp:https://www.divadelkouzvonu.cz/wp-content/uploads/2023/08/opak.webp
ORGANIZER;CN="Divad%C3%A9lko U Zvonu":MAILTO:info@divadelkouzvonu.cz
END:VEVENT
END:VCALENDAR