BEGIN:VCALENDAR
VERSION:2.0
PRODID:-//Divadélko U Zvonu - ECPv6.15.20//NONSGML v1.0//EN
CALSCALE:GREGORIAN
METHOD:PUBLISH
X-WR-CALNAME:Divadélko U Zvonu
X-ORIGINAL-URL:https://www.divadelkouzvonu.cz
X-WR-CALDESC:Akce na Divadélko U Zvonu
REFRESH-INTERVAL;VALUE=DURATION:PT1H
X-Robots-Tag:noindex
X-PUBLISHED-TTL:PT1H
BEGIN:VTIMEZONE
TZID:Europe/Prague
BEGIN:DAYLIGHT
TZOFFSETFROM:+0100
TZOFFSETTO:+0200
TZNAME:CEST
DTSTART:20250330T010000
END:DAYLIGHT
BEGIN:STANDARD
TZOFFSETFROM:+0200
TZOFFSETTO:+0100
TZNAME:CET
DTSTART:20251026T010000
END:STANDARD
BEGIN:DAYLIGHT
TZOFFSETFROM:+0100
TZOFFSETTO:+0200
TZNAME:CEST
DTSTART:20260329T010000
END:DAYLIGHT
BEGIN:STANDARD
TZOFFSETFROM:+0200
TZOFFSETTO:+0100
TZNAME:CET
DTSTART:20261025T010000
END:STANDARD
BEGIN:DAYLIGHT
TZOFFSETFROM:+0100
TZOFFSETTO:+0200
TZNAME:CEST
DTSTART:20270328T010000
END:DAYLIGHT
BEGIN:STANDARD
TZOFFSETFROM:+0200
TZOFFSETTO:+0100
TZNAME:CET
DTSTART:20271031T010000
END:STANDARD
END:VTIMEZONE
BEGIN:VEVENT
DTSTART;TZID=Europe/Prague:20260426T160000
DTEND;TZID=Europe/Prague:20260426T163000
DTSTAMP:20260421T042229
CREATED:20260319T181400Z
LAST-MODIFIED:20260327T164854Z
UID:2042-1777219200-1777221000@www.divadelkouzvonu.cz
SUMMARY:Popletené koťátko (Obnovená premiéra)
DESCRIPTION:Diagnóza: Divadlo				\n				\n					\n				\n		\n					\n				\n				\n									Po nečekané události\, která zasáhne malé Kladenské divadélko\, se šest členů souboru ocitá v situaci\, kdy nikdo netuší\, co se vlastně stalo. Napjaté vztahy ještě zkomplikuje náhlá ztráta paměti. Co se stane\, až se jim začnou vybavovat první vzpomínky? Dramatická komedie vznikla přímo pro Divadélko U Zvonu k jeho 35. výročí. Autorský tým ji napsal\, režíroval\, vytvořil choreografii i sám hraje. Inscenace je inspirována skutečnými událostmi a nabízí originální humor\, překvapivé zvraty a energické herecké výkony. Představení využívá každý viditelný kout sálu — sledujte proto dění opravdu pozorně. 								\n				\n					\n				\n		\n					\n				\n				\n							\n							\n					\n											\n														\n							\n					\n											\n														\n							\n					\n											\n														\n							\n					\n											\n														\n							\n					\n											\n														\n							\n					\n											\n														\n					\n					\n				\n					\n				\n		\n					\n				\n				\n					Prodej přes GoOut				\n				\n					\n				\n		\n					\n				\n				\n					\n				\n				\n					\n				\n		\n					\n				\n				\n					Rezervace představení - platba v hotovosti na místě				\n				\n					\n				\n		\n					\n				\n				\n							\n\n  \n\n\n\n Předmět (ponechte políčko tak jak je):\n\n \n Vaše jméno a příjmení:\n \n \n Počet míst - Dospělí\n \n \n Počet míst - Děti\n \n \n Váš e-mail:\n \n \n Telefon\n \n \n Vyberte představení:\n26. 04. 2026 - Popletené koťátko - Obnovená premiéra17. 05. 2026 - O Červené Karkulce - PREMIÉRA31. 05. 2026 - O Ošklivé princezně07. 06. 2026 - O pejskovi a kočičce 219. 06. 2026 - Diagnóza: Divadlo21. 06. 2026 - O Červené Karkulce\n\n \n Poznámka (volitelný)\n \n \nPonechte toto pole prázdné.\n \n\n Δ
URL:https://www.divadelkouzvonu.cz/event/popletene-kotatko/
LOCATION:Kladenské divadélko\, Josefa Hory 1981\, Kladno\, Středočeský\, 27201\, Česká republika
CATEGORIES:Divadelní představení
ATTACH;FMTTYPE=image/webp:https://www.divadelkouzvonu.cz/wp-content/uploads/2026/03/Popletene_kote2-scaled.webp
ORGANIZER;CN="Divad%C3%A9lko U Zvonu":MAILTO:info@divadelkouzvonu.cz
END:VEVENT
BEGIN:VEVENT
DTSTART;TZID=Europe/Prague:20260517T160000
DTEND;TZID=Europe/Prague:20260517T164500
DTSTAMP:20260421T042229
CREATED:20260320T112446Z
LAST-MODIFIED:20260324T120858Z
UID:2076-1779033600-1779036300@www.divadelkouzvonu.cz
SUMMARY:O Červené Karkulce (Premiéra)
DESCRIPTION:Diagnóza: Divadlo				\n				\n					\n				\n		\n					\n				\n				\n									Po nečekané události\, která zasáhne malé Kladenské divadélko\, se šest členů souboru ocitá v situaci\, kdy nikdo netuší\, co se vlastně stalo. Napjaté vztahy ještě zkomplikuje náhlá ztráta paměti. Co se stane\, až se jim začnou vybavovat první vzpomínky? Dramatická komedie vznikla přímo pro Divadélko U Zvonu k jeho 35. výročí. Autorský tým ji napsal\, režíroval\, vytvořil choreografii i sám hraje. Inscenace je inspirována skutečnými událostmi a nabízí originální humor\, překvapivé zvraty a energické herecké výkony. Představení využívá každý viditelný kout sálu — sledujte proto dění opravdu pozorně. 								\n				\n					\n				\n		\n					\n				\n				\n							\n							\n					\n											\n														\n							\n					\n											\n														\n							\n					\n											\n														\n							\n					\n											\n														\n							\n					\n											\n														\n							\n					\n											\n														\n					\n					\n				\n					\n				\n		\n					\n				\n				\n					Prodej přes GoOut				\n				\n					\n				\n		\n					\n				\n				\n					\n				\n				\n					\n				\n		\n					\n				\n				\n					Rezervace představení - platba v hotovosti na místě				\n				\n					\n				\n		\n					\n				\n				\n							\n\n  \n\n\n\n Předmět (ponechte políčko tak jak je):\n\n \n Vaše jméno a příjmení:\n \n \n Počet míst - Dospělí\n \n \n Počet míst - Děti\n \n \n Váš e-mail:\n \n \n Telefon\n \n \n Vyberte představení:\n26. 04. 2026 - Popletené koťátko - Obnovená premiéra17. 05. 2026 - O Červené Karkulce - PREMIÉRA31. 05. 2026 - O Ošklivé princezně07. 06. 2026 - O pejskovi a kočičce 219. 06. 2026 - Diagnóza: Divadlo21. 06. 2026 - O Červené Karkulce\n\n \n Poznámka (volitelný)\n \n \nPonechte toto pole prázdné.\n \n\n Δ
URL:https://www.divadelkouzvonu.cz/event/o-cervene-karkulce-premiera/
LOCATION:Kladenské divadélko\, Josefa Hory 1981\, Kladno\, Středočeský\, 27201\, Česká republika
CATEGORIES:Divadelní představení
ATTACH;FMTTYPE=image/webp:https://www.divadelkouzvonu.cz/wp-content/uploads/2026/03/Karkulka.webp
ORGANIZER;CN="Divad%C3%A9lko U Zvonu":MAILTO:info@divadelkouzvonu.cz
END:VEVENT
BEGIN:VEVENT
DTSTART;TZID=Europe/Prague:20260531T160000
DTEND;TZID=Europe/Prague:20260531T164500
DTSTAMP:20260421T042229
CREATED:20260326T084026Z
LAST-MODIFIED:20260410T062837Z
UID:4774-1780243200-1780245900@www.divadelkouzvonu.cz
SUMMARY:O ošklivé princezně
DESCRIPTION:Diagnóza: Divadlo				\n				\n					\n				\n		\n					\n				\n				\n									Po nečekané události\, která zasáhne malé Kladenské divadélko\, se šest členů souboru ocitá v situaci\, kdy nikdo netuší\, co se vlastně stalo. Napjaté vztahy ještě zkomplikuje náhlá ztráta paměti. Co se stane\, až se jim začnou vybavovat první vzpomínky? Dramatická komedie vznikla přímo pro Divadélko U Zvonu k jeho 35. výročí. Autorský tým ji napsal\, režíroval\, vytvořil choreografii i sám hraje. Inscenace je inspirována skutečnými událostmi a nabízí originální humor\, překvapivé zvraty a energické herecké výkony. Představení využívá každý viditelný kout sálu — sledujte proto dění opravdu pozorně. 								\n				\n					\n				\n		\n					\n				\n				\n							\n							\n					\n											\n														\n							\n					\n											\n														\n							\n					\n											\n														\n							\n					\n											\n														\n							\n					\n											\n														\n							\n					\n											\n														\n					\n					\n				\n					\n				\n		\n					\n				\n				\n					Prodej přes GoOut				\n				\n					\n				\n		\n					\n				\n				\n					\n				\n				\n					\n				\n		\n					\n				\n				\n					Rezervace představení - platba v hotovosti na místě				\n				\n					\n				\n		\n					\n				\n				\n							\n\n  \n\n\n\n Předmět (ponechte políčko tak jak je):\n\n \n Vaše jméno a příjmení:\n \n \n Počet míst - Dospělí\n \n \n Počet míst - Děti\n \n \n Váš e-mail:\n \n \n Telefon\n \n \n Vyberte představení:\n26. 04. 2026 - Popletené koťátko - Obnovená premiéra17. 05. 2026 - O Červené Karkulce - PREMIÉRA31. 05. 2026 - O Ošklivé princezně07. 06. 2026 - O pejskovi a kočičce 219. 06. 2026 - Diagnóza: Divadlo21. 06. 2026 - O Červené Karkulce\n\n \n Poznámka (volitelný)\n \n \nPonechte toto pole prázdné.\n \n\n Δ
URL:https://www.divadelkouzvonu.cz/event/o-osklive-princezne-5/
LOCATION:Kladenské divadélko\, Josefa Hory 1981\, Kladno\, Středočeský\, 27201\, Česká republika
CATEGORIES:Divadelní představení
ATTACH;FMTTYPE=image/webp:https://www.divadelkouzvonu.cz/wp-content/uploads/2026/02/OOP-07.webp
ORGANIZER;CN="Divad%C3%A9lko U Zvonu":MAILTO:info@divadelkouzvonu.cz
END:VEVENT
BEGIN:VEVENT
DTSTART;TZID=Europe/Prague:20260607T160000
DTEND;TZID=Europe/Prague:20260607T164500
DTSTAMP:20260421T042229
CREATED:20260326T084513Z
LAST-MODIFIED:20260410T063239Z
UID:4779-1780848000-1780850700@www.divadelkouzvonu.cz
SUMMARY:O pejskovi a kočičce 2 (PREMIÉRA)
DESCRIPTION:Diagnóza: Divadlo				\n				\n					\n				\n		\n					\n				\n				\n									Po nečekané události\, která zasáhne malé Kladenské divadélko\, se šest členů souboru ocitá v situaci\, kdy nikdo netuší\, co se vlastně stalo. Napjaté vztahy ještě zkomplikuje náhlá ztráta paměti. Co se stane\, až se jim začnou vybavovat první vzpomínky? Dramatická komedie vznikla přímo pro Divadélko U Zvonu k jeho 35. výročí. Autorský tým ji napsal\, režíroval\, vytvořil choreografii i sám hraje. Inscenace je inspirována skutečnými událostmi a nabízí originální humor\, překvapivé zvraty a energické herecké výkony. Představení využívá každý viditelný kout sálu — sledujte proto dění opravdu pozorně. 								\n				\n					\n				\n		\n					\n				\n				\n							\n							\n					\n											\n														\n							\n					\n											\n														\n							\n					\n											\n														\n							\n					\n											\n														\n							\n					\n											\n														\n							\n					\n											\n														\n					\n					\n				\n					\n				\n		\n					\n				\n				\n					Prodej přes GoOut				\n				\n					\n				\n		\n					\n				\n				\n					\n				\n				\n					\n				\n		\n					\n				\n				\n					Rezervace představení - platba v hotovosti na místě				\n				\n					\n				\n		\n					\n				\n				\n							\n\n  \n\n\n\n Předmět (ponechte políčko tak jak je):\n\n \n Vaše jméno a příjmení:\n \n \n Počet míst - Dospělí\n \n \n Počet míst - Děti\n \n \n Váš e-mail:\n \n \n Telefon\n \n \n Vyberte představení:\n26. 04. 2026 - Popletené koťátko - Obnovená premiéra17. 05. 2026 - O Červené Karkulce - PREMIÉRA31. 05. 2026 - O Ošklivé princezně07. 06. 2026 - O pejskovi a kočičce 219. 06. 2026 - Diagnóza: Divadlo21. 06. 2026 - O Červené Karkulce\n\n \n Poznámka (volitelný)\n \n \nPonechte toto pole prázdné.\n \n\n Δ
URL:https://www.divadelkouzvonu.cz/event/o-pejskovi-a-kocicce-2-premiera/
LOCATION:Kladenské divadélko\, Josefa Hory 1981\, Kladno\, Středočeský\, 27201\, Česká republika
CATEGORIES:Divadelní představení
ATTACH;FMTTYPE=image/webp:https://www.divadelkouzvonu.cz/wp-content/uploads/2025/11/OPAK05-scaled.webp
ORGANIZER;CN="Divad%C3%A9lko U Zvonu":MAILTO:info@divadelkouzvonu.cz
END:VEVENT
BEGIN:VEVENT
DTSTART;TZID=Europe/Prague:20260619T200000
DTEND;TZID=Europe/Prague:20260619T210000
DTSTAMP:20260421T042229
CREATED:20260410T063542Z
LAST-MODIFIED:20260410T063718Z
UID:4784-1781899200-1781902800@www.divadelkouzvonu.cz
SUMMARY:Diagnóza: Divadlo
DESCRIPTION:Diagnóza: Divadlo				\n				\n					\n				\n		\n					\n				\n				\n									Po nečekané události\, která zasáhne malé Kladenské divadélko\, se šest členů souboru ocitá v situaci\, kdy nikdo netuší\, co se vlastně stalo. Napjaté vztahy ještě zkomplikuje náhlá ztráta paměti. Co se stane\, až se jim začnou vybavovat první vzpomínky? Dramatická komedie vznikla přímo pro Divadélko U Zvonu k jeho 35. výročí. Autorský tým ji napsal\, režíroval\, vytvořil choreografii i sám hraje. Inscenace je inspirována skutečnými událostmi a nabízí originální humor\, překvapivé zvraty a energické herecké výkony. Představení využívá každý viditelný kout sálu — sledujte proto dění opravdu pozorně. 								\n				\n					\n				\n		\n					\n				\n				\n							\n							\n					\n											\n														\n							\n					\n											\n														\n							\n					\n											\n														\n							\n					\n											\n														\n							\n					\n											\n														\n							\n					\n											\n														\n					\n					\n				\n					\n				\n		\n					\n				\n				\n					Prodej přes GoOut				\n				\n					\n				\n		\n					\n				\n				\n					\n				\n				\n					\n				\n		\n					\n				\n				\n					Rezervace představení - platba v hotovosti na místě				\n				\n					\n				\n		\n					\n				\n				\n							\n\n  \n\n\n\n Předmět (ponechte políčko tak jak je):\n\n \n Vaše jméno a příjmení:\n \n \n Počet míst - Dospělí\n \n \n Počet míst - Děti\n \n \n Váš e-mail:\n \n \n Telefon\n \n \n Vyberte představení:\n26. 04. 2026 - Popletené koťátko - Obnovená premiéra17. 05. 2026 - O Červené Karkulce - PREMIÉRA31. 05. 2026 - O Ošklivé princezně07. 06. 2026 - O pejskovi a kočičce 219. 06. 2026 - Diagnóza: Divadlo21. 06. 2026 - O Červené Karkulce\n\n \n Poznámka (volitelný)\n \n \nPonechte toto pole prázdné.\n \n\n Δ
URL:https://www.divadelkouzvonu.cz/event/diagnoza-divadlo-2/
LOCATION:Kladenské divadélko\, Josefa Hory 1981\, Kladno\, Středočeský\, 27201\, Česká republika
CATEGORIES:Divadelní představení
ATTACH;FMTTYPE=image/webp:https://www.divadelkouzvonu.cz/wp-content/uploads/2026/03/Diagnoza01.webp
ORGANIZER;CN="Divad%C3%A9lko U Zvonu":MAILTO:info@divadelkouzvonu.cz
END:VEVENT
END:VCALENDAR